BEGIN:VCALENDAR
VERSION:2.0
PRODID:-//OneOp - ECPv6.15.18//NONSGML v1.0//EN
CALSCALE:GREGORIAN
METHOD:PUBLISH
X-ORIGINAL-URL:https://oneop.org
X-WR-CALDESC:Events for OneOp
REFRESH-INTERVAL;VALUE=DURATION:PT1H
X-Robots-Tag:noindex
X-PUBLISHED-TTL:PT1H
BEGIN:VTIMEZONE
TZID:America/New_York
BEGIN:DAYLIGHT
TZOFFSETFROM:-0500
TZOFFSETTO:-0400
TZNAME:EDT
DTSTART:20250309T070000
END:DAYLIGHT
BEGIN:STANDARD
TZOFFSETFROM:-0400
TZOFFSETTO:-0500
TZNAME:EST
DTSTART:20251102T060000
END:STANDARD
BEGIN:DAYLIGHT
TZOFFSETFROM:-0500
TZOFFSETTO:-0400
TZNAME:EDT
DTSTART:20260308T070000
END:DAYLIGHT
BEGIN:STANDARD
TZOFFSETFROM:-0400
TZOFFSETTO:-0500
TZNAME:EST
DTSTART:20261101T060000
END:STANDARD
BEGIN:DAYLIGHT
TZOFFSETFROM:-0500
TZOFFSETTO:-0400
TZNAME:EDT
DTSTART:20270314T070000
END:DAYLIGHT
BEGIN:STANDARD
TZOFFSETFROM:-0400
TZOFFSETTO:-0500
TZNAME:EST
DTSTART:20271107T060000
END:STANDARD
END:VTIMEZONE
BEGIN:VEVENT
DTSTART;TZID=America/New_York:20260528T110000
DTEND;TZID=America/New_York:20260528T120000
DTSTAMP:20260421T073439
CREATED:20260413T175820Z
LAST-MODIFIED:20260414T132215Z
UID:10001745-1779966000-1779969600@oneop.org
SUMMARY:Early Intervention Support for a Unique Population: Serving Those Who Serve
DESCRIPTION:[vc_row type=”in_container” full_screen_row_position=”middle” column_margin=”default” column_direction=”default” column_direction_tablet=”default” column_direction_phone=”default” scene_position=”center” top_padding=”20″ constrain_group_1=”yes” bottom_padding=”20″ left_padding_desktop=”15″ text_color=”dark” text_align=”left” row_border_radius=”none” row_border_radius_applies=”bg” overflow=”visible” overlay_strength=”0.3″ gradient_direction=”left_to_right” shape_divider_position=”bottom” bg_image_animation=”none” gradient_type=”default” shape_type=””][vc_column column_padding=”no-extra-padding” column_padding_tablet=”inherit” column_padding_phone=”inherit” column_padding_position=”all” column_element_direction_desktop=”default” column_element_spacing=”default” desktop_text_alignment=”default” tablet_text_alignment=”default” phone_text_alignment=”default” background_color_opacity=”1″ background_hover_color_opacity=”1″ column_backdrop_filter=”none” column_shadow=”none” column_border_radius=”none” column_link_target=”_self” column_position=”default” gradient_direction=”left_to_right” overlay_strength=”0.3″ width=”1/1″ tablet_width_inherit=”default” animation_type=”default” bg_image_animation=”none” border_type=”simple” column_border_width=”none” column_border_style=”solid”][vc_custom_heading text=”About This Webinar” use_theme_fonts=”yes”][vc_column_text]This presentation will inform practitioners about challenges unique to children in the military population. Additionally\, it will inform and bring awareness as to how these challenges can affect the acquisition of developmental milestones. It will examine how early interventionists utilize the Division for Early Childhood (DEC) recommended practices to achieve improved outcomes for children and their families who are impacted by these challenges. Lastly\, it will educate on how the Educational and Developmental Intervention Services (EDIS) early intervention coaching framework is utilized to empower families to help their children develop. \nLearning Objectives: \n\nDescribe challenges unique to children in military families and how these experiences may influence the acquisition of developmental milestones\nExplain how early interventionists use the Division for Early Childhood (DEC) Recommended Practices to support positive outcomes for children and families impacted by military-related transitions and stressors\nSummarize how the Educational and Developmental Intervention Services (EDIS) coaching framework supports family empowerment and promotes child development within everyday routines\n\n[/vc_column_text][/vc_column][/vc_row][vc_row type=”in_container” full_screen_row_position=”middle” column_margin=”default” column_direction=”default” column_direction_tablet=”default” column_direction_phone=”default” scene_position=”center” top_padding=”13″ left_padding_desktop=”15″ text_color=”dark” text_align=”left” row_border_radius=”none” row_border_radius_applies=”bg” overflow=”visible” overlay_strength=”0.3″ gradient_direction=”left_to_right” shape_divider_position=”bottom” bg_image_animation=”none” gradient_type=”default” shape_type=””][vc_column column_padding=”no-extra-padding” column_padding_tablet=”inherit” column_padding_phone=”inherit” column_padding_position=”all” column_element_direction_desktop=”default” column_element_spacing=”default” desktop_text_alignment=”default” tablet_text_alignment=”default” phone_text_alignment=”default” background_color_opacity=”1″ background_hover_color_opacity=”1″ column_backdrop_filter=”none” column_shadow=”none” column_border_radius=”none” column_link_target=”_self” column_position=”default” gradient_direction=”left_to_right” overlay_strength=”0.3″ width=”1/1″ tablet_width_inherit=”default” animation_type=”default” bg_image_animation=”none” border_type=”simple” column_border_width=”none” column_border_style=”solid”][vc_custom_heading text=”Presenters” use_theme_fonts=”yes”][/vc_column][/vc_row][vc_row type=”in_container” full_screen_row_position=”middle” column_margin=”default” column_direction=”default” column_direction_tablet=”default” column_direction_phone=”default” scene_position=”center” top_padding=”0″ bottom_padding=”20″ left_padding_desktop=”5″ top_margin=”0″ constrain_group_7=”yes” bottom_margin=”0″ left_margin=”0″ constrain_group_8=”yes” right_margin=”0″ text_color=”dark” text_align=”left” row_border_radius=”5px” row_border_radius_applies=”bg” overflow=”visible” overlay_strength=”0.3″ gradient_direction=”left_to_right” shape_divider_position=”bottom” bg_image_animation=”none” gradient_type=”default” shape_type=””][vc_column column_padding=”padding-2-percent” column_padding_tablet=”inherit” column_padding_phone=”inherit” column_padding_position=”left” column_element_direction_desktop=”default” column_element_spacing=”default” desktop_text_alignment=”default” tablet_text_alignment=”default” phone_text_alignment=”default” background_color_opacity=”1″ background_hover_color_opacity=”1″ column_backdrop_filter=”none” column_shadow=”none” column_border_radius=”none” column_link_target=”_self” column_position=”default” gradient_direction=”left_to_right” overlay_strength=”0.3″ width=”1/4″ tablet_width_inherit=”default” animation_type=”default” bg_image_animation=”none” border_type=”simple” column_border_width=”none” column_border_style=”solid” column_padding_type=”default” gradient_type=”default”][image_with_animation image_url=”224106″ image_size=”custom” animation_type=”entrance” animation=”None” animation_movement_type=”transform_y” hover_animation=”none” alignment=”” border_radius=”5px” box_shadow=”none” image_loading=”default” max_width=”100%” max_width_mobile=”default” position_desktop=”relative” custom_image_size=”thumb” margin_top=”10″][/vc_column][vc_column column_padding=”no-extra-padding” column_padding_tablet=”inherit” column_padding_phone=”inherit” column_padding_position=”all” column_element_direction_desktop=”default” column_element_spacing=”default” desktop_text_alignment=”default” tablet_text_alignment=”default” phone_text_alignment=”default” background_color_opacity=”1″ background_hover_color_opacity=”1″ column_backdrop_filter=”none” column_shadow=”none” column_border_radius=”none” column_link_target=”_self” column_position=”default” gradient_direction=”left_to_right” overlay_strength=”0.3″ width=”3/4″ tablet_width_inherit=”default” animation_type=”default” bg_image_animation=”none” border_type=”simple” column_border_width=”none” column_border_style=”solid” column_padding_type=”default” gradient_type=”default”][vc_custom_heading text=”Antoinette McAllister-Blyden\, M.S.\, CCC-SLP” font_container=”tag:h3|font_size:25|text_align:left” use_theme_fonts=”yes”][vc_column_text]Ms. Antoinette McAllister-Blyden is a licensed Speech-Language Pathologist with 18 years of experience and currently serves as a Training Specialist and Early Intervention Provider at Landstuhl Regional Medical Center. With extensive experience in Educational and Developmental Intervention Services (EDIS)\, she supports developmentally delayed and medically fragile children and trains providers to implement evidence-based practices. As the spouse of a U.S. Army veteran\, she brings both professional expertise and personal insight to her work with military-connected families.[/vc_column_text][/vc_column][/vc_row][vc_row type=”in_container” full_screen_row_position=”middle” column_margin=”default” column_direction=”default” column_direction_tablet=”default” column_direction_phone=”default” scene_position=”center” top_padding=”0″ bottom_padding=”20″ left_padding_desktop=”5″ top_margin=”0″ constrain_group_7=”yes” bottom_margin=”0″ left_margin=”0″ constrain_group_8=”yes” right_margin=”0″ text_color=”dark” text_align=”left” row_border_radius=”5px” row_border_radius_applies=”bg” overflow=”visible” overlay_strength=”0.3″ gradient_direction=”left_to_right” shape_divider_position=”bottom” bg_image_animation=”none” gradient_type=”default” shape_type=””][vc_column column_padding=”padding-2-percent” column_padding_tablet=”inherit” column_padding_phone=”inherit” column_padding_position=”left” column_element_direction_desktop=”default” column_element_spacing=”default” desktop_text_alignment=”default” tablet_text_alignment=”default” phone_text_alignment=”default” background_color_opacity=”1″ background_hover_color_opacity=”1″ column_backdrop_filter=”none” column_shadow=”none” column_border_radius=”none” column_link_target=”_self” column_position=”default” gradient_direction=”left_to_right” overlay_strength=”0.3″ width=”1/4″ tablet_width_inherit=”default” animation_type=”default” bg_image_animation=”none” border_type=”simple” column_border_width=”none” column_border_style=”solid” column_padding_type=”default” gradient_type=”default”][image_with_animation image_url=”224107″ image_size=”custom” animation_type=”entrance” animation=”None” animation_movement_type=”transform_y” hover_animation=”none” alignment=”” border_radius=”5px” box_shadow=”none” image_loading=”default” max_width=”100%” max_width_mobile=”default” position_desktop=”relative” custom_image_size=”thumb” margin_top=”10″][/vc_column][vc_column column_padding=”no-extra-padding” column_padding_tablet=”inherit” column_padding_phone=”inherit” column_padding_position=”all” column_element_direction_desktop=”default” column_element_spacing=”default” desktop_text_alignment=”default” tablet_text_alignment=”default” phone_text_alignment=”default” background_color_opacity=”1″ background_hover_color_opacity=”1″ column_backdrop_filter=”none” column_shadow=”none” column_border_radius=”none” column_link_target=”_self” column_position=”default” gradient_direction=”left_to_right” overlay_strength=”0.3″ width=”3/4″ tablet_width_inherit=”default” animation_type=”default” bg_image_animation=”none” border_type=”simple” column_border_width=”none” column_border_style=”solid” column_padding_type=”default” gradient_type=”default”][vc_custom_heading text=”Ashley Simpson\, M.A.\, M.Ed.” font_container=”tag:h3|font_size:25|text_align:left” use_theme_fonts=”yes”][vc_column_text]Ms. Ashley Simpson has over 20 years of experience in Special Education and serves as a Program Manager and Early Intervention provider with Educational and Developmental Intervention Services (EDIS) at Vicenza Army Health Clinic in Italy. She holds master’s degrees in Conflict Analysis and Dispute Resolution and English as a Second Language and has extensive experience supporting at-risk\, developmentally delayed\, and medically fragile children across early childhood and school-age settings. Ms. Simpson is passionate about supporting military families and collaborating with programs such as New Parent Support and Child and Youth Services.[/vc_column_text][/vc_column][/vc_row][vc_row type=”in_container” full_screen_row_position=”middle” column_margin=”default” column_direction=”default” column_direction_tablet=”default” column_direction_phone=”default” scene_position=”center” top_padding=”40″ bottom_padding=”20″ left_padding_desktop=”15″ text_color=”dark” text_align=”left” row_border_radius=”5px” row_border_radius_applies=”bg” overflow=”visible” overlay_strength=”0.3″ gradient_direction=”left_to_right” shape_divider_position=”bottom” bg_image_animation=”none” gradient_type=”default” shape_type=””][vc_column column_padding=”padding-2-percent” column_padding_tablet=”inherit” column_padding_phone=”inherit” column_padding_position=”top” column_element_direction_desktop=”default” column_element_spacing=”default” desktop_text_alignment=”default” tablet_text_alignment=”default” phone_text_alignment=”default” background_color_opacity=”1″ background_hover_color_opacity=”1″ column_backdrop_filter=”none” column_shadow=”none” column_border_radius=”none” column_link_target=”_self” column_position=”default” gradient_direction=”left_to_right” overlay_strength=”0.3″ width=”2/3″ tablet_width_inherit=”default” animation_type=”default” bg_image_animation=”none” border_type=”simple” column_border_width=”none” column_border_style=”solid” column_padding_type=”default” gradient_type=”default”][vc_custom_heading text=”Continuing Education (CE) Credit” use_theme_fonts=”yes”][vc_column_text]\n\nBoard Certified Disability Management Specialists: This webinar is pending approval for 1.5 continuing education (CE) clock hour from The Commission for Case Manager Certification. Note: Eligibility for CE credit will close 5/28/2026.\nCertified Family Life Educators (CFLE): This webinar is pending approval for 1.5 continuing education (CE) credits from the National Council on Family Relations (NCFR). Note: Eligibility for CE credit will close 5/28/2029.\nEarly Interventionists and Early Childhood Educators: This webinar is pending approval for 1.5 continuing education (CE) credits from the Early Intervention Training Program (EITP) at the University of Illinois. Note: Eligibility for CE credit will close 6/30/2027.\nIllinois Early Care & Education Providers: This webinar is pending approval as a Gateways to Opportunity Registry-approved Training for early care and education professionals in Illinois through 6/30/2027.\nCertified Health Education Specialist (CHES) and Master Certified Health Education Specialist (MCHES): This webinar is pending approval for 1.5 continuing education credit from the National Commission for Health Education Credentialing (NCHEC). Note: Eligibility for CE credit will close 5/28/2029.\nMichigan Certified Teachers: This webinar has been approved for 1.5 SCECH from the Michigan Education Association’s Center for Leadership and Learning. Note: Eligibility for CE credit will close 5/28/2029.\nSocial Workers\, Licensed Professional Counselors\, and Licensed Marriage and Family Therapists: This webinar is pending approval for 1.5 continuing education (CE) credits from the University of Texas at Austin School of Social Work. Check with your state licensing agency for reciprocity and/or credit approval if licensed for other professions or in one of the following states: CO\, FL\, HI\, IA\, KS\, KY\, MI\, NY\, ND\, OH\, OK. Note: Eligibility for CE credit will close 5/28/2029.\nOneOp Certificates of Attendance are available for those interested in additional documentation of professional development activities.\n\n[/vc_column_text][/vc_column][vc_column column_padding=”padding-2-percent” column_padding_tablet=”inherit” column_padding_phone=”inherit” column_padding_position=”all” top_margin=”0″ left_margin=”0″ constrain_group_2=”yes” right_margin=”0″ column_element_direction_desktop=”default” column_element_spacing=”default” desktop_text_alignment=”default” tablet_text_alignment=”default” phone_text_alignment=”default” background_color=”#f7f7f7″ background_color_opacity=”1″ background_hover_color_opacity=”1″ column_backdrop_filter=”none” column_shadow=”none” column_border_radius=”none” column_link_target=”_self” column_position=”default” gradient_direction=”left_to_right” overlay_strength=”0.3″ width=”1/3″ tablet_width_inherit=”default” animation_type=”default” bg_image_animation=”none” border_type=”simple” column_border_width=”none” column_border_color=”#f7f7f7″ column_border_style=”solid” enable_border_animation=”true” column_padding_type=”default” gradient_type=”default”][vc_custom_heading text=”Event Materials” use_theme_fonts=”yes” css=”.vc_custom_1689369183150{padding-left: 30px !important;}”][vc_column_text css=”.vc_custom_1691082428112{padding-left: 15px !important;}”]Webinar slides and resources will be added the day prior to the live session.[/vc_column_text][/vc_column][/vc_row][vc_row type=”in_container” full_screen_row_position=”middle” column_margin=”default” column_direction=”default” column_direction_tablet=”default” column_direction_phone=”default” scene_position=”center” top_padding=”13″ text_color=”dark” text_align=”left” row_border_radius=”none” row_border_radius_applies=”bg” overflow=”visible” overlay_strength=”0.3″ gradient_direction=”left_to_right” shape_divider_position=”bottom” bg_image_animation=”none” gradient_type=”default” shape_type=””][vc_column column_padding=”no-extra-padding” column_padding_tablet=”inherit” column_padding_phone=”inherit” column_padding_position=”all” column_element_direction_desktop=”default” column_element_spacing=”default” desktop_text_alignment=”default” tablet_text_alignment=”default” phone_text_alignment=”default” background_color_opacity=”1″ background_hover_color_opacity=”1″ column_backdrop_filter=”none” column_shadow=”none” column_border_radius=”none” column_link_target=”_self” column_position=”default” gradient_direction=”left_to_right” overlay_strength=”0.3″ width=”1/1″ tablet_width_inherit=”default” animation_type=”default” bg_image_animation=”none” border_type=”simple” column_border_width=”none” column_border_style=”solid”][vc_column_text]Photo Credit:[/vc_column_text][/vc_column][/vc_row]
URL:https://oneop.org/learn/160144/
CATEGORIES:Military Service and Family Life
ATTACH;FMTTYPE=image/png:https://oneop.org/wp-content/uploads/2026/04/CoverPhoto-May-28-e1775602443247.png
LOCATION:https://oneop.org/learn/160144/
END:VEVENT
END:VCALENDAR